BEGIN:VCALENDAR
VERSION:2.0
PRODID:-//eventon.com NONSGML v1.0//EN
CALSCALE:GREGORIAN
METHOD:PUBLISH
BEGIN:VEVENT
UID:69eb3c9b38c6a
DTSTAMP:20260424T094915Z
DTSTART:20260620
DTEND:20260621
LOCATION:
SUMMARY:80's Dance Party
DESCRIPTION:80&#8217;s Dance Party. Bonfire\,  DJ. Wear your best 80s costu
 me!\nhttps://woodlandacres.com/events/80s-dance-party/
URL:https://woodlandacres.com/events/80s-dance-party/
END:VEVENT
END:VCALENDAR