BEGIN:VCALENDAR
VERSION:2.0
PRODID:-//eventon.com NONSGML v1.0//EN
CALSCALE:GREGORIAN
METHOD:PUBLISH
BEGIN:VEVENT
UID:69eb3cd49753d
DTSTAMP:20260424T095012Z
DTSTART:20261009
DTEND:20261010
LOCATION:
SUMMARY:Columbus Day Weekend
DESCRIPTION:Saturday: Bonfire\,  DJ Kids Activities Halloween Weekend Best 
 Site Decoration Contest Best Adult &amp; Child Costume Contests / Prizes Tr
 ick or Treating Wagon Rides\nhttps://woodlandacres.com/events/columbus-day-
 weekend/
URL:https://woodlandacres.com/events/columbus-day-weekend/
END:VEVENT
END:VCALENDAR