BEGIN:VCALENDAR
VERSION:2.0
PRODID:-//eventon.com NONSGML v1.0//EN
CALSCALE:GREGORIAN
METHOD:PUBLISH
BEGIN:VEVENT
UID:69eb3c154313d
DTSTAMP:20260424T094701Z
DTSTART:20260904
DTEND:20260905
LOCATION:
SUMMARY:Labor Day Weekend
DESCRIPTION:Saturday: Bonfire\,  DJ\,  Kids Activities\nhttps://woodlandacr
 es.com/events/labor-day-weekend/
URL:https://woodlandacres.com/events/labor-day-weekend/
END:VEVENT
END:VCALENDAR