BEGIN:VCALENDAR
VERSION:2.0
PRODID:-//eventon.com NONSGML v1.0//EN
CALSCALE:GREGORIAN
METHOD:PUBLISH
BEGIN:VEVENT
UID:69eb3d7338509
DTSTAMP:20260424T095251Z
DTSTART:20260522
DTEND:20260523
LOCATION:
SUMMARY:Memorial Day Weekend
DESCRIPTION:Saturday: Bonfire DJ Kids Activities\nhttps://woodlandacres.com
 /events/memorial-day-weekend/
URL:https://woodlandacres.com/events/memorial-day-weekend/
END:VEVENT
END:VCALENDAR