BEGIN:VCALENDAR
VERSION:2.0
PRODID:-//eventon.com NONSGML v1.0//EN
CALSCALE:GREGORIAN
METHOD:PUBLISH
BEGIN:VEVENT
UID:69eb3cecf10d7
DTSTAMP:20260424T095036Z
DTSTART:20260703
DTEND:20260704
LOCATION:
SUMMARY:4th of July Weekend
DESCRIPTION:Friday: Movie night Saturday: Ice Cream Social @ 5pm Bonfire\, 
  DJ\,  Fireworks\,  Kids Activities\nhttps://woodlandacres.com/events/4th-o
 f-july/
URL:https://woodlandacres.com/events/4th-of-july/
END:VEVENT
END:VCALENDAR